BEGIN:VCALENDAR
VERSION:2.0
PRODID:-//81.169.197.35//NONSGML kigkonsult.se iCalcreator 2.20//
CALSCALE:GREGORIAN
METHOD:PUBLISH
X-WR-TIMEZONE:Europe/Berlin
BEGIN:VEVENT
UID:event213@Für Bauschheim e.V.
DTSTAMP:20260421T131317Z
CATEGORIES:SKG Bauschheim
DESCRIPTION:50 Jahre Steinmarktklause Am Steinmarktgelände\nKategorie: SKG 
 Bauschheim\nICS-Link: https://www.fuerbauschheim.de/index.php?option=com_j
 em&view=event&id=213:50-jahre-steinmarktklause\n
DTSTART;VALUE=DATE:20260620
DTEND;VALUE=DATE:20260621
SUMMARY:50 Jahre Steinmarktklause Am Steinmarktgelände
URL:https://www.fuerbauschheim.de/index.php?option=com_jem&view=event&id=21
 3:50-jahre-steinmarktklause
END:VEVENT
END:VCALENDAR