BEGIN:VCALENDAR
VERSION:2.0
PRODID:-//81.169.197.35//NONSGML kigkonsult.se iCalcreator 2.20//
CALSCALE:GREGORIAN
METHOD:PUBLISH
X-WR-TIMEZONE:Europe/Berlin
BEGIN:VEVENT
UID:event231@Für Bauschheim e.V.
DTSTAMP:20260421T160534Z
CATEGORIES:Für Bauschheim e.V. intern
DESCRIPTION:Jahreshauptversammlung\nKategorie: Für Bauschheim e.V. intern\n
 ICS-Link: https://www.fuerbauschheim.de/index.php?option=com_jem&view=even
 t&id=231:jahreshauptversammlung\n
DTSTART;TZID=Europe/Berlin:20260423T190000
DTEND;TZID=Europe/Berlin:20260423T190000
LOCATION:Bürgerhaus Bauschheim\,Kirchgarten 6\,65428 Rüsselsheim am Main - 
 Bauschheim
SUMMARY:Jahreshauptversammlung
URL:https://www.fuerbauschheim.de/index.php?option=com_jem&view=event&id=23
 1:jahreshauptversammlung
END:VEVENT
END:VCALENDAR