BEGIN:VCALENDAR
VERSION:2.0
PRODID:-//81.169.197.35//NONSGML kigkonsult.se iCalcreator 2.20//
CALSCALE:GREGORIAN
METHOD:PUBLISH
X-WR-TIMEZONE:Europe/Berlin
BEGIN:VEVENT
UID:event232@Für Bauschheim e.V.
DTSTAMP:20260421T131119Z
CATEGORIES:Für Bauschheim e.V.
DESCRIPTION:Bauschemer Kerb\nKategorie: Für Bauschheim e.V.\nICS-Link: http
 s://www.fuerbauschheim.de/index.php?option=com_jem&view=event&id=232:bausc
 hemer-kerb\n
DTSTART;VALUE=DATE:20260925
DTEND;VALUE=DATE:20260929
LOCATION:Kerweplatz\,Backesgasse\,65428 Rüsselsheim am Main - Bauschheim\,G
 ermany
SUMMARY:Bauschemer Kerb
URL:https://www.fuerbauschheim.de/index.php?option=com_jem&view=event&id=23
 2:bauschemer-kerb
END:VEVENT
BEGIN:VEVENT
UID:event234@Für Bauschheim e.V.
DTSTAMP:20260421T131119Z
CATEGORIES:Für Bauschheim e.V.
DESCRIPTION:Bauschheimer Weihnachtsmarkt der Vereine\nKategorie: Für Bausch
 heim e.V.\nICS-Link: https://www.fuerbauschheim.de/index.php?option=com_je
 m&view=event&id=234:bauschheimer-weihnachtsmarkt-der-vereine\n
DTSTART;VALUE=DATE:20261127
DTEND;VALUE=DATE:20261130
LOCATION:Kerweplatz\,Backesgasse\,65428 Rüsselsheim am Main - Bauschheim\,G
 ermany
SUMMARY:Bauschheimer Weihnachtsmarkt der Vereine
URL:https://www.fuerbauschheim.de/index.php?option=com_jem&view=event&id=23
 4:bauschheimer-weihnachtsmarkt-der-vereine
END:VEVENT
END:VCALENDAR