BEGIN:VCALENDAR
VERSION:2.0
PRODID:-//81.169.197.35//NONSGML kigkonsult.se iCalcreator 2.20//
CALSCALE:GREGORIAN
METHOD:PUBLISH
X-WR-TIMEZONE:Europe/Berlin
BEGIN:VEVENT
UID:event245@Für Bauschheim e.V.
DTSTAMP:20260421T114502Z
CATEGORIES:Für Bauschheim e.V.
DESCRIPTION:Jahreshauptversammlung Für Bauschheim e.V.\nKategorie: Für Baus
 chheim e.V.\nICS-Link: https://www.fuerbauschheim.de/index.php?option=com_
 jem&view=event&id=245:jahreshauptversammlung-fuer-bauschheim-e-v\n
DTSTART;TZID=Europe/Berlin:20260423T190000
DTEND;TZID=Europe/Berlin:20260423T190000
LOCATION:Bürgerhaus Bauschheim\,Kirchgarten 6\,65428 Rüsselsheim am Main - 
 Bauschheim
SUMMARY:Jahreshauptversammlung Für Bauschheim e.V.
URL:https://www.fuerbauschheim.de/index.php?option=com_jem&view=event&id=24
 5:jahreshauptversammlung-fuer-bauschheim-e-v
END:VEVENT
END:VCALENDAR