BEGIN:VCALENDAR
VERSION:2.0
PRODID:-//81.169.197.35//NONSGML kigkonsult.se iCalcreator 2.20//
CALSCALE:GREGORIAN
METHOD:PUBLISH
X-WR-TIMEZONE:Europe/Berlin
BEGIN:VEVENT
UID:event217@Für Bauschheim e.V.
DTSTAMP:20260421T114706Z
CATEGORIES:Skiclub Bauschheim 1981 e.V.
DESCRIPTION:Kanutour und Zeltlager an der Sauer\nKategorie: Skiclub Bauschh
 eim 1981 e.V.\nICS-Link: https://www.fuerbauschheim.de/index.php?option=co
 m_jem&view=event&id=217:kanutour-und-zeltlager-an-der-sauer\n
DTSTART;VALUE=DATE:20260703
DTEND;VALUE=DATE:20260706
LOCATION:Homepage Skiclub\,Germany
SUMMARY:Kanutour und Zeltlager an der Sauer
URL:https://www.fuerbauschheim.de/index.php?option=com_jem&view=event&id=21
 7:kanutour-und-zeltlager-an-der-sauer
END:VEVENT
BEGIN:VEVENT
UID:event215@Für Bauschheim e.V.
DTSTAMP:20260421T114706Z
CATEGORIES:Skiclub Bauschheim 1981 e.V.
DESCRIPTION:Radfahren in Lermoos/Zugspitze\nKategorie: Skiclub Bauschheim 1
 981 e.V.\nICS-Link: https://www.fuerbauschheim.de/index.php?option=com_jem
 &view=event&id=215:radfahren-in-lermoos-2026\n
DTSTART;VALUE=DATE:20260603
DTEND;VALUE=DATE:20260608
LOCATION:Homepage Skiclub\,Germany
SUMMARY:Radfahren in Lermoos/Zugspitze
URL:https://www.fuerbauschheim.de/index.php?option=com_jem&view=event&id=21
 5:radfahren-in-lermoos-2026
END:VEVENT
BEGIN:VEVENT
UID:event219@Für Bauschheim e.V.
DTSTAMP:20260421T114706Z
CATEGORIES:Skiclub Bauschheim 1981 e.V.
DESCRIPTION:Rheinauenrundfahrt um Trebur\nKategorie: Skiclub Bauschheim 198
 1 e.V.\nICS-Link: https://www.fuerbauschheim.de/index.php?option=com_jem&v
 iew=event&id=219:rheinauenrundfahrt-um-trebur\n
DTSTART;VALUE=DATE:20260906
DTEND;VALUE=DATE:20260907
LOCATION:Homepage Skiclub\,Germany
SUMMARY:Rheinauenrundfahrt um Trebur
URL:https://www.fuerbauschheim.de/index.php?option=com_jem&view=event&id=21
 9:rheinauenrundfahrt-um-trebur
END:VEVENT
BEGIN:VEVENT
UID:event220@Für Bauschheim e.V.
DTSTAMP:20260421T114706Z
CATEGORIES:Skiclub Bauschheim 1981 e.V.
DESCRIPTION:Saisoneröffnungsfahrt nach Hintertux\nKategorie: Skiclub Bausch
 heim 1981 e.V.\nICS-Link: https://www.fuerbauschheim.de/index.php?option=c
 om_jem&view=event&id=220:saisoneroeffnungsfahrt-nach-hintertux\n
DTSTART;VALUE=DATE:20261118
DTEND;VALUE=DATE:20261122
LOCATION:Homepage Skiclub\,Germany
SUMMARY:Saisoneröffnungsfahrt nach Hintertux
URL:https://www.fuerbauschheim.de/index.php?option=com_jem&view=event&id=22
 0:saisoneroeffnungsfahrt-nach-hintertux
END:VEVENT
BEGIN:VEVENT
UID:event218@Für Bauschheim e.V.
DTSTAMP:20260421T114706Z
CATEGORIES:Skiclub Bauschheim 1981 e.V.
DESCRIPTION:Wanderausflug\nKategorie: Skiclub Bauschheim 1981 e.V.\nICS-Lin
 k: https://www.fuerbauschheim.de/index.php?option=com_jem&view=event&id=21
 8:wanderausflug\n
DTSTART;VALUE=DATE:20260809
DTEND;VALUE=DATE:20260810
LOCATION:Homepage Skiclub\,Germany
SUMMARY:Wanderausflug
URL:https://www.fuerbauschheim.de/index.php?option=com_jem&view=event&id=21
 8:wanderausflug
END:VEVENT
BEGIN:VEVENT
UID:event216@Für Bauschheim e.V.
DTSTAMP:20260421T114706Z
CATEGORIES:Skiclub Bauschheim 1981 e.V.
DESCRIPTION:Wein trifft See mit dem ASV Bauschheim\nKategorie: Skiclub Baus
 chheim 1981 e.V.\nICS-Link: https://www.fuerbauschheim.de/index.php?option
 =com_jem&view=event&id=216:wein-trifft-see-mit-dem-asv-bauschheim\n
DTSTART;VALUE=DATE:20260613
DTEND;VALUE=DATE:20260615
LOCATION:Homepage Skiclub\,Germany
SUMMARY:Wein trifft See mit dem ASV Bauschheim
URL:https://www.fuerbauschheim.de/index.php?option=com_jem&view=event&id=21
 6:wein-trifft-see-mit-dem-asv-bauschheim
END:VEVENT
END:VCALENDAR